BEGIN:VCALENDAR
VERSION:2.0
PRODID:-//AMM85 - ECPv6.8.3//NONSGML v1.0//EN
CALSCALE:GREGORIAN
METHOD:PUBLISH
X-ORIGINAL-URL:https://amm85.fr
X-WR-CALDESC:Évènements pour AMM85
REFRESH-INTERVAL;VALUE=DURATION:PT1H
X-Robots-Tag:noindex
X-PUBLISHED-TTL:PT1H
BEGIN:VTIMEZONE
TZID:Europe/Paris
BEGIN:DAYLIGHT
TZOFFSETFROM:+0100
TZOFFSETTO:+0200
TZNAME:CEST
DTSTART:20250330T010000
END:DAYLIGHT
BEGIN:STANDARD
TZOFFSETFROM:+0200
TZOFFSETTO:+0100
TZNAME:CET
DTSTART:20251026T010000
END:STANDARD
END:VTIMEZONE
BEGIN:VEVENT
DTSTART;TZID=Europe/Paris:20251011T080000
DTEND;TZID=Europe/Paris:20251012T170000
DTSTAMP:20260421T043909
CREATED:20241213T093451Z
LAST-MODIFIED:20241213T101907Z
UID:2751-1760169600-1760288400@amm85.fr
SUMMARY:Salon à Montreuil Juigné 11 et 12 octobre 2025
DESCRIPTION:Salle Simone-Mathieu\n  \nAMM
URL:https://amm85.fr/index.php/event/montreuil/
LOCATION:a3mj\, salle Simone-Mathieu rue David d'Angers\, Montreuil-Juigné\, 49460\, France
END:VEVENT
END:VCALENDAR