BEGIN:VCALENDAR
VERSION:2.0
PRODID:-//AMM85 - ECPv6.8.3//NONSGML v1.0//EN
CALSCALE:GREGORIAN
METHOD:PUBLISH
X-ORIGINAL-URL:https://amm85.fr
X-WR-CALDESC:Évènements pour AMM85
REFRESH-INTERVAL;VALUE=DURATION:PT1H
X-Robots-Tag:noindex
X-PUBLISHED-TTL:PT1H
BEGIN:VTIMEZONE
TZID:Europe/Paris
BEGIN:DAYLIGHT
TZOFFSETFROM:+0100
TZOFFSETTO:+0200
TZNAME:CEST
DTSTART:20250330T010000
END:DAYLIGHT
BEGIN:STANDARD
TZOFFSETFROM:+0200
TZOFFSETTO:+0100
TZNAME:CET
DTSTART:20251026T010000
END:STANDARD
END:VTIMEZONE
BEGIN:VEVENT
DTSTART;TZID=Europe/Paris:20250830T080000
DTEND;TZID=Europe/Paris:20250831T170000
DTSTAMP:20260421T124030
CREATED:20240731T065344Z
LAST-MODIFIED:20250729T071922Z
UID:2228-1756540800-1756659600@amm85.fr
SUMMARY:Navigation à Civaux les 30 et 31 aout 2025
DESCRIPTION:Le club de Civaux vous invite à son rassemblement annuel qui aura lieu du 30 au 31 aout 2025\nVous aurez l’occasion de naviguer sur le grand étang de Civaux et un local pour le stockage et l’exposition de bateaux non navigants.\nPossibilité pour les camping-cars de s’installer sur le parking à proximité de l’étang. (en attente d’autorisation de la part de la mairie) \nAfin de préparer au mieux le rassemblement\, veuillez m’indiquer: \n\nLe jour ou les jours de votre présence.\nLe nombre de bateaux et le métrage nécessaire pour les exposer. Bien sûr si vous avez votre propre matériel d’exposition\, prenez le.\nsi vous venez en camping-car (accueil à partir du vendredi après midi).\nle nombres de participants par club.\n\n  \n  \n \n  \nRenseignements et inscriptions :   \nmodelismenavalcivaux@laposte.net \n\nPage Web\nFB
URL:https://amm85.fr/index.php/event/civaux/
LOCATION:Civaux\, club modélisme civaux\, Civaux\, France
END:VEVENT
END:VCALENDAR