BEGIN:VCALENDAR
VERSION:2.0
PRODID:-//AMM85 - ECPv6.8.3//NONSGML v1.0//EN
CALSCALE:GREGORIAN
METHOD:PUBLISH
X-WR-CALNAME:AMM85
X-ORIGINAL-URL:https://amm85.fr
X-WR-CALDESC:Évènements pour AMM85
REFRESH-INTERVAL;VALUE=DURATION:PT1H
X-Robots-Tag:noindex
X-PUBLISHED-TTL:PT1H
BEGIN:VTIMEZONE
TZID:Europe/Paris
BEGIN:DAYLIGHT
TZOFFSETFROM:+0100
TZOFFSETTO:+0200
TZNAME:CEST
DTSTART:20250330T010000
END:DAYLIGHT
BEGIN:STANDARD
TZOFFSETFROM:+0200
TZOFFSETTO:+0100
TZNAME:CET
DTSTART:20251026T010000
END:STANDARD
END:VTIMEZONE
BEGIN:VEVENT
DTSTART;TZID=Europe/Paris:20250714T143000
DTEND;TZID=Europe/Paris:20250714T143000
DTSTAMP:20260421T160809
CREATED:20240529T111028Z
LAST-MODIFIED:20250626T063322Z
UID:1653-1752503400-1752503400@amm85.fr
SUMMARY:Navigation aux Jardins du Loriot le 14 Juillet 2025
DESCRIPTION:L’amicale du modélisme Mothais organise une manifestation navale sur l’étang du jardin du Loriot. \nConditions d’accès au site et horaire d’ouverture voir site des jardins du loriot \n‘
URL:https://amm85.fr/index.php/event/navigation-au-jardin-du-loriot-le-14-juillet/
LOCATION:loriot\, les jardins du loriot\, venansault\, France
END:VEVENT
END:VCALENDAR