BEGIN:VCALENDAR
VERSION:2.0
PRODID:-//AMM85 - ECPv6.8.3//NONSGML v1.0//EN
CALSCALE:GREGORIAN
METHOD:PUBLISH
X-WR-CALNAME:AMM85
X-ORIGINAL-URL:https://amm85.fr
X-WR-CALDESC:Évènements pour AMM85
REFRESH-INTERVAL;VALUE=DURATION:PT1H
X-Robots-Tag:noindex
X-PUBLISHED-TTL:PT1H
BEGIN:VTIMEZONE
TZID:Europe/Paris
BEGIN:DAYLIGHT
TZOFFSETFROM:+0100
TZOFFSETTO:+0200
TZNAME:CEST
DTSTART:20250330T010000
END:DAYLIGHT
BEGIN:STANDARD
TZOFFSETFROM:+0200
TZOFFSETTO:+0100
TZNAME:CET
DTSTART:20251026T010000
END:STANDARD
END:VTIMEZONE
BEGIN:VEVENT
DTSTART;TZID=Europe/Paris:20250621T100000
DTEND;TZID=Europe/Paris:20250621T170000
DTSTAMP:20260421T201147
CREATED:20250524T190450Z
LAST-MODIFIED:20250609T055254Z
UID:3525-1750500000-1750525200@amm85.fr
SUMMARY:Navigation à Saint Hilaire le 21 juin 2025
DESCRIPTION:modalités d’accueil \n 
URL:https://amm85.fr/index.php/event/navigation-a-saint-hilaire-le-21-juin-2025/
LOCATION:base nautique Vallées\, base nautique des Vallées\, saint hilaire de Riez
END:VEVENT
END:VCALENDAR