BEGIN:VCALENDAR
VERSION:2.0
PRODID:-//AMM85 - ECPv6.8.3//NONSGML v1.0//EN
CALSCALE:GREGORIAN
METHOD:PUBLISH
X-WR-CALNAME:AMM85
X-ORIGINAL-URL:https://amm85.fr
X-WR-CALDESC:Évènements pour AMM85
REFRESH-INTERVAL;VALUE=DURATION:PT1H
X-Robots-Tag:noindex
X-PUBLISHED-TTL:PT1H
BEGIN:VTIMEZONE
TZID:Europe/Paris
BEGIN:DAYLIGHT
TZOFFSETFROM:+0100
TZOFFSETTO:+0200
TZNAME:CEST
DTSTART:20250330T010000
END:DAYLIGHT
BEGIN:STANDARD
TZOFFSETFROM:+0200
TZOFFSETTO:+0100
TZNAME:CET
DTSTART:20251026T010000
END:STANDARD
END:VTIMEZONE
BEGIN:VEVENT
DTSTART;TZID=Europe/Paris:20250614T090000
DTEND;TZID=Europe/Paris:20250614T180000
DTSTAMP:20260421T202918
CREATED:20250522T170048Z
LAST-MODIFIED:20250522T170829Z
UID:3518-1749891600-1749924000@amm85.fr
SUMMARY:Porte Ouverte AMM le 14 juin 2025
DESCRIPTION:Journée porte ouverte Atelier AMM 10 place de l’hôtel de ville \n  \nle samedi 14 juin de 9h à 12h et de 14 h à 18h. \n  \nACCES ATELIER
URL:https://amm85.fr/index.php/event/porte-ouverte-amm-le-14-juin-2025/
LOCATION:ATELIER\, 10 place de l'hotel de ville 85150 Les Achards\, les achards\, 85150\, France
END:VEVENT
END:VCALENDAR