BEGIN:VCALENDAR
VERSION:2.0
PRODID:-//AMM85 - ECPv6.8.3//NONSGML v1.0//EN
CALSCALE:GREGORIAN
METHOD:PUBLISH
X-ORIGINAL-URL:https://amm85.fr
X-WR-CALDESC:Évènements pour AMM85
REFRESH-INTERVAL;VALUE=DURATION:PT1H
X-Robots-Tag:noindex
X-PUBLISHED-TTL:PT1H
BEGIN:VTIMEZONE
TZID:Europe/Paris
BEGIN:DAYLIGHT
TZOFFSETFROM:+0100
TZOFFSETTO:+0200
TZNAME:CEST
DTSTART:20250330T010000
END:DAYLIGHT
BEGIN:STANDARD
TZOFFSETFROM:+0200
TZOFFSETTO:+0100
TZNAME:CET
DTSTART:20251026T010000
END:STANDARD
END:VTIMEZONE
BEGIN:VEVENT
DTSTART;TZID=Europe/Paris:20250608T080000
DTEND;TZID=Europe/Paris:20250608T180000
DTSTAMP:20260421T201515
CREATED:20240405T165703Z
LAST-MODIFIED:20250413T131513Z
UID:1474-1749369600-1749405600@amm85.fr
SUMMARY:Saint Vincent sur Graon le 8 juin 2025
DESCRIPTION:Le parking et le lieu d’exposition sont derrière l’école Sain Joseph \n  \nVidéo du site de l’exposition et de la navigation au lac du Graon sur youtube \nAMM
URL:https://amm85.fr/index.php/event/grahon/
LOCATION:lac du graon\, ecole saint joseph\, saint vincent sur graon\, France
END:VEVENT
END:VCALENDAR